BEGIN:VCALENDAR
VERSION:2.0
PRODID:-//ExpressionEngine Easy iCalendar plugin//NONSGML v2.0.0//EN
X-WR-TIMEZONE:Europe/London
X-WR-CALNAME:BSUK Events Calendar
BEGIN:VEVENT
UID:3639
DTSTAMP:20240227T180000
DTSTART:20240227T180000
DTEND:20240227T210000
SUMMARY:Safe on Base Safeguarding Course - February 2024
LOCATION:Online (Zoom)
DESCRIPTION:The Safe on Base course is BaseballSoftballUK's bespoke safe
 guarding course for baseball and softball safeguarding offic
 ers and youth coaches. Join Mark Caress and Chris Knoblock a
 s they walk you through the relevant safeguarding informatio
 n before the season starts! \n\nThe Safe on Base course repla
 ces the Time to Listen training from 2024.
SEQUENCE:4
END:VEVENT
END:VCALENDAR