BEGIN:VCALENDAR
VERSION:2.0
PRODID:-//ExpressionEngine Easy iCalendar plugin//NONSGML v2.0.0//EN
X-WR-TIMEZONE:Europe/London
X-WR-CALNAME:BSUK Events Calendar
BEGIN:VEVENT
UID:2885
DTSTAMP:20230624T090000
DTSTART:20230624T090000
DTEND:20230624T180000
SUMMARY:North West Series 2 2023
LOCATION:Parrs Wood High School
DESCRIPTION:For 2023\, the North West Series will be comprised of two sim
 ultaneous one-day Rec and Comp tournaments on each of three 
 weekends.  Trophies for tournament winners will be handed o
 ut at the end of each day and overall Series winners will ge
 t a special prize at NWS3!\n\nFor fairness and safety\, Team C
 aptains are asked to remember that the Rec tournament is fo
 r the players that do not have the level to play regularly o
 n the top divisions of the Manchester Softball League\, BSF N
 ational Softball Leagues or equivalent when forming a team. 
 There may be some teams with players that do not have previo
 us experience playing softball at all.\n\nIf a captain is wond
 ering whether a player is of too high of a standard for the 
 Rec level\,  then he/she most likely is! Such players are m
 ost welcome to come with your team and help by coaching. \n\n
 The Comp level is open to any level of playing standard.\n\nTh
 e fee for each tournament will be £160.  Please note that 
 payment has to be made at time of registration to confirm a 
 place in the tournament.\n\nThe tournament will use the BSUK 
 LGBTQ+ Inclusive Rules. \n\nRegister for REC\n\nRegister for C
 OMP
SEQUENCE:18
END:VEVENT
END:VCALENDAR