BEGIN:VCALENDAR
VERSION:2.0
PRODID:-//ExpressionEngine Easy iCalendar plugin//NONSGML v2.0.0//EN
X-WR-TIMEZONE:Europe/London
X-WR-CALNAME:BSUK Events Calendar
BEGIN:VEVENT
UID:3006
DTSTAMP:20230603T090000
DTSTART:20230603T090000
DTEND:20230604T180000
SUMMARY:BSUK Jubilee Cup
LOCATION:Farnham Park National Baseball & Softball Complex
DESCRIPTION:The Jubilee Cup replaces the June Cup and will be held over 
 the first weekend of June! Three levels of play are availabl
 e: B Grade\, Upper Rec and Lower Rec. Please stipulate on th
 e registration form what level you are entering\n\n	B-grade me
 ans no more than 3 NSL1 players are allowed per team.\n	Upper
  REC means no NSL1 players and a maximum of two NSL2 players
  per team\n	Lower REC means no NSL1 players and a maximum of 
 one NSL2 player\n\nThe fee for each team will be £335
SEQUENCE:2
END:VEVENT
END:VCALENDAR