BEGIN:VCALENDAR
VERSION:2.0
PRODID:-//ExpressionEngine Easy iCalendar plugin//NONSGML v2.0.0//EN
X-WR-TIMEZONE:Europe/London
X-WR-CALNAME:BSUK Events Calendar
BEGIN:VEVENT
UID:2105
DTSTAMP:20220803T090000
DTSTART:20220803T090000
DTEND:20220806T210000
SUMMARY:2022 Women’s European Baseball Championship
LOCATION:
DESCRIPTION:The 2nd Women's European Baseball Championship will take pl
 ace in Montpellier\, France between the 3rd-6th August 2022.
  
SEQUENCE:6
END:VEVENT
END:VCALENDAR